BEGIN:VCALENDAR
VERSION:2.0
PRODID:-//Fountain City Roller Derby - ECPv6.15.20//NONSGML v1.0//EN
CALSCALE:GREGORIAN
METHOD:PUBLISH
X-WR-CALNAME:Fountain City Roller Derby
X-ORIGINAL-URL:https://fountaincityrollerderby.com
X-WR-CALDESC:Events for Fountain City Roller Derby
REFRESH-INTERVAL;VALUE=DURATION:PT1H
X-Robots-Tag:noindex
X-PUBLISHED-TTL:PT1H
BEGIN:VTIMEZONE
TZID:America/Chicago
BEGIN:DAYLIGHT
TZOFFSETFROM:-0600
TZOFFSETTO:-0500
TZNAME:CDT
DTSTART:20240310T080000
END:DAYLIGHT
BEGIN:STANDARD
TZOFFSETFROM:-0500
TZOFFSETTO:-0600
TZNAME:CST
DTSTART:20241103T070000
END:STANDARD
BEGIN:DAYLIGHT
TZOFFSETFROM:-0600
TZOFFSETTO:-0500
TZNAME:CDT
DTSTART:20250309T080000
END:DAYLIGHT
BEGIN:STANDARD
TZOFFSETFROM:-0500
TZOFFSETTO:-0600
TZNAME:CST
DTSTART:20251102T070000
END:STANDARD
BEGIN:DAYLIGHT
TZOFFSETFROM:-0600
TZOFFSETTO:-0500
TZNAME:CDT
DTSTART:20260308T080000
END:DAYLIGHT
BEGIN:STANDARD
TZOFFSETFROM:-0500
TZOFFSETTO:-0600
TZNAME:CST
DTSTART:20261101T070000
END:STANDARD
END:VTIMEZONE
BEGIN:VEVENT
DTSTART;VALUE=DATE:20250720
DTEND;VALUE=DATE:20250721
DTSTAMP:20260421T133415
CREATED:20250106T222354Z
LAST-MODIFIED:20250709T134051Z
UID:6522-1752969600-1753055999@fountaincityrollerderby.com
SUMMARY:Zombie League & Intermediate Expo Bouts
DESCRIPTION:Doors open at 8:00am. First whistle at 8:30am. \nTickets sold at the door for $5.\nMinors 17 and under are free. MUST be accompanied by an adult guardian. \n$10 cooler fee. No glass. The snack bar will be open.\nBy attending this event\, you agree to abide by the following policy:\nFountain City Roller Derby has zero tolerance for discrimination\, harassment\, and acts of violence against another due to race\, color\, religion\, sex\, gender identity/expression\, sexual orientation\, national orientation\, age\, and/or disability. Attendees found to be in violation of this zero-tolerance policy will be immediately ejected from the event.
URL:https://fountaincityrollerderby.com/event/zombie-league-intermediate-expo-bouts/
LOCATION:Olahrama 28\, 13903 E Noland Ct\, Independence\, MO\, 64055\, United States
CATEGORIES:Games
END:VEVENT
BEGIN:VEVENT
DTSTART;VALUE=DATE:20250719
DTEND;VALUE=DATE:20250720
DTSTAMP:20260421T133415
CREATED:20250106T220825Z
LAST-MODIFIED:20250403T022143Z
UID:6481-1752883200-1752969599@fountaincityrollerderby.com
SUMMARY:Open Gender Game 2
DESCRIPTION:Doors open at 5:30pm. First whistle at 6:00pm. \nTickets sold at the door for $15.\nMinors 17 and under are free. MUST be accompanied by an adult guardian. \n$10 cooler fee. No glass. The snack bar will be open.\nBy attending this event\, you agree to abide by the following policy:\nFountain City Roller Derby has zero tolerance for discrimination\, harassment\, and acts of violence against another due to race\, color\, religion\, sex\, gender identity/expression\, sexual orientation\, national orientation\, age\, and/or disability. Attendees found to be in violation of this zero-tolerance policy will be immediately ejected from the event.
URL:https://fountaincityrollerderby.com/event/open-gender-game-2-2/
LOCATION:Olahrama 28\, 13903 E Noland Ct\, Independence\, MO\, 64055\, United States
CATEGORIES:Games
END:VEVENT
BEGIN:VEVENT
DTSTART;VALUE=DATE:20250628
DTEND;VALUE=DATE:20250629
DTSTAMP:20260421T133415
CREATED:20241231T004324Z
LAST-MODIFIED:20250403T022133Z
UID:6479-1751068800-1751155199@fountaincityrollerderby.com
SUMMARY:Open Gender Game 1
DESCRIPTION:Doors open at 5:30pm. First whistle at 6:00pm. \nTickets sold at the door for $15.\nMinors 17 and under are free. MUST be accompanied by an adult guardian. \n$10 cooler fee. No glass. The snack bar will be open.\nBy attending this event\, you agree to abide by the following policy:\nFountain City Roller Derby has zero tolerance for discrimination\, harassment\, and acts of violence against another due to race\, color\, religion\, sex\, gender identity/expression\, sexual orientation\, national orientation\, age\, and/or disability. Attendees found to be in violation of this zero-tolerance policy will be immediately ejected from the event.
URL:https://fountaincityrollerderby.com/event/og-game-1/
LOCATION:Olahrama 28\, 13903 E Noland Ct\, Independence\, MO\, 64055\, United States
CATEGORIES:Games
END:VEVENT
BEGIN:VEVENT
DTSTART;VALUE=DATE:20250510
DTEND;VALUE=DATE:20250511
DTSTAMP:20260421T133415
CREATED:20250106T221707Z
LAST-MODIFIED:20250403T022125Z
UID:6516-1746835200-1746921599@fountaincityrollerderby.com
SUMMARY:Women's All-Stars and Men's Expo Bouts
DESCRIPTION:Doors open at 5:30pm. First whistle at 6:00pm. \nTickets sold at the door for $15.\nMinors 17 and under are free. MUST be accompanied by an adult guardian. \n$10 cooler fee. No glass. The snack bar will be open.\nBy attending this event\, you agree to abide by the following policy:\nFountain City Roller Derby has zero tolerance for discrimination\, harassment\, and acts of violence against another due to race\, color\, religion\, sex\, gender identity/expression\, sexual orientation\, national orientation\, age\, and/or disability. Attendees found to be in violation of this zero-tolerance policy will be immediately ejected from the event.
URL:https://fountaincityrollerderby.com/event/womens-all-stars-and-mens-expo-bouts/
LOCATION:Olahrama 28\, 13903 E Noland Ct\, Independence\, MO\, 64055\, United States
CATEGORIES:Games
END:VEVENT
BEGIN:VEVENT
DTSTART;VALUE=DATE:20250426
DTEND;VALUE=DATE:20250427
DTSTAMP:20260421T133415
CREATED:20241231T003457Z
LAST-MODIFIED:20250403T022117Z
UID:6472-1745625600-1745711999@fountaincityrollerderby.com
SUMMARY:Women's Championship
DESCRIPTION:Game 1: Deadly Sirens vs Royal Pains\nChampionship Game: Lovely Lethals vs The Sheilas \nDoors open at 5:30pm. First whistle at 6:00pm!\nTickets sold at the door for $15.\nMinors 17 and under are free. MUST be accompanied by an adult guardian. \n$10 cooler fee. No glass. The snack bar will be open.\nBy attending this event\, you agree to abide by the following policy:\nFountain City Roller Derby has zero tolerance for discrimination\, harassment\, and acts of violence against another due to race\, color\, religion\, sex\, gender identity/expression\, sexual orientation\, national orientation\, age\, and/or disability. Attendees found to be in violation of this zero-tolerance policy will be immediately ejected from the event.
URL:https://fountaincityrollerderby.com/event/womens-championship/
LOCATION:Olahrama 28\, 13903 E Noland Ct\, Independence\, MO\, 64055\, United States
CATEGORIES:Games
END:VEVENT
END:VCALENDAR